BEGIN:VCALENDAR
VERSION:2.0
PRODID:-//Stichting Historie Heerenveen//NONSGML kigkonsult.se iCalcreator 2.41.92//
CALSCALE:GREGORIAN
METHOD:PUBLISH
UID:62373935-6433-4331-b832-643434336661
X-WR-CALNAME:iCagenda
X-WR-CALDESC:Event Management Extension for Joomla!
X-WR-RELCALID:3E26604A-50F4-4449-8B3E-E4F4932D05B5
X-WR-TIMEZONE:Europe/Amsterdam
BEGIN:VTIMEZONE
TZID:Europe/Amsterdam
TZUNTIL:20271031T010000Z
BEGIN:STANDARD
TZNAME:CET
DTSTART:20251026T030000
TZOFFSETFROM:+0200
TZOFFSETTO:+0100
RDATE:20261025T030000
END:STANDARD
BEGIN:DAYLIGHT
TZNAME:CEST
DTSTART:20250330T020000
TZOFFSETFROM:+0100
TZOFFSETTO:+0200
RDATE:20260329T020000
RDATE:20270328T020000
END:DAYLIGHT
END:VTIMEZONE
BEGIN:VEVENT
UID:38633866-6366-4738-a462-646362653930
DTSTAMP:20260420T083140Z
CATEGORIES:Lezingen
CLASS:PUBLIC
DESCRIPTION;ALTREP="CID:<FFFF__=0ABBE548DFE235B58f9e8a93d@coffeebean.com>":
 Is it ‘Feensters’ in foarm fan Stedsk (Stedsfrysk)?\nDy fraach sil Reitze 
 J. Jonkman yn syn lêzing beäntwurdzje oan de hân fan de skiednis fan de st
 edsdialekten yn Fryslân (bgl.it ‘Leewarders’) en it dialekt fan it Feen\, 
 ien fan de opmerklikste dialekten fan Fryslân én fan Nederlân. Hy giet dêr
 by ek yn op it ferskil tusken de ûntwikkeling fan de stêden en dy fan de l
 ettere opkomst fan it doarp ‘Heerenveen’. Dat is in doarpsnamme dy’t - oar
 s as de stedsnammen mei in histoaryske fariant yn it Aldfrysk (bgl. Frana 
 Eker) - fan it begjin ôf Nederlânsktalich west hat. Oan de oarder komt ek 
 wat de link is mei it earste oantreffen yn de boarnen fan de gebietsnamme 
 SHeerenfeen (1579). De namme fan it&nbsp\;plak sels is jonger.\nDe lêzing 
 wurdt hâlden op tongersdei 19 maart 2026 yn it Kunstcafé fan Museum Heeren
 veen oan de Minckelersstrjitte 11 en begjint om 19.30 oere. De seal is fan
  19.00 oere ôf iepen. Donateurs fan de stichting Historie Heerenveen kinne
  dizze jûn fergees bywenje. Foar net-donateurs is de entree € 7\,50. Besik
 ers krije yn it skoft fergees in kop kofje of tee oanbean.\nBelangstellend
 en kinne harren opjaan troch in e-mail te stjoeren nei lezingen@historiehe
 erenveen.nl\, mei fermelding fan it tal persoanen en oft jo al of net stip
 er binne. Telefoanysk oanmelde kin ek en wol op nûmer 06 51429200.\nReitze
  JonkmanDr. Reitze Johannes Jonkman komt oarspronklik fan Nijskoat (*1957)
  en hat taalsosjolooch by de Fryske Akademy west. Syn lêste publikaasje He
 t Friese Nederduits (Afûk 2025) giet oer it algemiene ferhaal fan de skied
 nis fan it Nederlânsk yn Fryslân\, dêr’t it Stedsk út fuortkommen&nbsp\;is
 .\nWy ferwolkomje&nbsp\;jo graach op 19 maart.
DTSTART:20260319T183000Z
DTEND:20260319T203900Z
GEO:00;0
LOCATION:Kunstkcafé Museum Heerenveen\, Minckelerstrjitte 11\, Heerenveen
ORGANIZER:
SEQUENCE:1
SUMMARY:Lêzing troch Reitze Jonkman oer 'it Feensters'
TRANSP:OPAQUE
URL:https://historieheerenveen.nl/agenda/169-lezing-troch-reitze-jonkman-oe
 r-it-feensters
END:VEVENT
END:VCALENDAR
