BEGIN:VCALENDAR
VERSION:2.0
PRODID:-//Stichting Historie Heerenveen//NONSGML kigkonsult.se iCalcreator 2.41.92//
CALSCALE:GREGORIAN
METHOD:PUBLISH
UID:31353834-3031-4635-b736-643035353530
X-WR-CALNAME:iCagenda
X-WR-CALDESC:Event Management Extension for Joomla!
X-WR-RELCALID:3E26604A-50F4-4449-8B3E-E4F4932D05B5
X-WR-TIMEZONE:Europe/Amsterdam
BEGIN:VTIMEZONE
TZID:Europe/Amsterdam
TZUNTIL:20271031T010000Z
BEGIN:STANDARD
TZNAME:CET
DTSTART:20251026T030000
TZOFFSETFROM:+0200
TZOFFSETTO:+0100
RDATE:20261025T030000
END:STANDARD
BEGIN:DAYLIGHT
TZNAME:CEST
DTSTART:20260329T020000
TZOFFSETFROM:+0100
TZOFFSETTO:+0200
RDATE:20270328T020000
END:DAYLIGHT
END:VTIMEZONE
BEGIN:VEVENT
UID:66643965-3864-4464-b136-333737366465
DTSTAMP:20260422T135724Z
CATEGORIES:Algemeen
CLASS:PUBLIC
DESCRIPTION;ALTREP="CID:<FFFF__=0ABBE548DFE235B58f9e8a93d@coffeebean.com>":
 Op 22 april 2026 organiseert de reiscommissie van de Vereniging van Vriend
 en Museum Heerenveen een excursie naar Museum Batavialand. U kunt zich nu 
 aanmelden\, waarbij donateurs van Historie Heerenveen korting krijgen!&nbs
 p\;\nOm 9.30 uur is het vertrek vanaf de parkeerplaats bij Hof van de Koni
 ng. Aangekomen bij de Bataviawerf worden we opgewacht door Linda Palil-Tri
 p en een van haar gidsen. Terwijl Linda vertelt hoe het haar vergaat bij h
 aar nieuwe werkgever en natuurlijk over de geschiedenis van Batavialand\, 
 genieten wij van een bakje koffie of thee met een flevoschelp. Hierna krij
 gen we een rondleiding door de werf en kunnen we na afloop zelf nog rondki
 jken. Sla vooral de leuke cadeaushop met een mooie keuze aan boeken over d
 e Flevopolder\, niet over.\nOm 12 uur gaan we aan boord van een rondvaartb
 oot voor een excursie van iets meer dan twee uren. We krijgen onder andere
  het schip de Batavia (vanaf het water)\, een spectaculaire sluis\, de pio
 nierswoningen op het werkeiland en veel natuurschoon in ‘s werelds grootst
 e man-made natuurpark ter wereld (de Oostvaardersplassen) te zien.Aan boor
 d wordt een warme lunch geserveerd.\nAls we weer terug zijn hebben we nog 
 voldoende gelegenheid het schip de Batavia en het Bataviamuseum op eigen g
 elegenheid te bekijken.\nVoor de liefhebbers is er vanaf 15.15 “Happy Hour
 ” bij de bus. Dit schijnt in het verleden een traditie te zijn geweest die
  we graag weer in ere herstellen. Om 16.00 vertrekken we naar Heerenveen w
 aar we rond 17.00 uur weer aankomen.\nProgramma van de dag:\nHet programma
  van 22 april 2026:\n\n9.30 Vertrek touringbus\n10.30 Aankomst Bataviawerf
  met ontvangst door Linda en koffie met flevoschelp\n11.00 Rondleiding ove
 r de Bataviawerf\n12.00 Vaartocht met Lunch\n14.00 Terugkomst Batavialand\
 , de rest van het museum kan op eigen gelegenheid bekeken worden.\nVanaf 1
 5.15 Happy Hour bij de bus. Dit is optioneel\n16.00 Vertrek Bus naar Heere
 nveen.\n\nKosten\nPrijs: 98 euro\, met korting *: 93 euro.&nbsp\;\n( * een
  korting geldt voor Vrienden Museum Heerenveen\, Vrijwilligers Museum Heer
 enveen en donateurs Stichting Historisch Heerenveen)\nDit is inclusief:\n
 \nKoffie/thee met wat lekkers bij aankomst in Batavialand\nBezoek en rondl
 eiding Bataviawerf\nEen warme lunch aan boord van de rondvaartboot\nToegan
 g tot het Museum Batavialand en het schip de Batavia\nEen drankje en snack
 s aan het einde van de middag bij/in de bus\nEn natuurlijk de reis heen en
  terug met een touringbus\n\nNB:De Bataviawerf is grotendeels toegankelijk
  met een rollatorHet museum Batavialand is volledig toegankelijk met een r
 ollatorHet schip De Batavia is niet toegankelijk met een rollatorDe rondva
 artboot is wel toegankelijk met rollator.\nOpgave voor deze dag kan via on
 derstaand formulier.\nHebt u nog vragen? Stuur dan een mail naar vriendenm
 useumheerenveen@kpnmail.nl&nbsp\;of bel met 0513 651576 (Tanja Wenzler)\nN
 B: Bezitters van een Museumjaarkaart\, en VIPkaart Vriendenloterij krijgen
  achteraf 13 euro van ons teruggestort. Vergeet de kaart dus niet mee te n
 emen. Wij moeten deze bij de balie laten scannen!!NB: De opgaaf is pas def
 initief als de betaling is ontvangen. U krijgt geruime tijd van tevoren ee
 n bevestiging. Daarna is annulering niet meer mogelijk en vindt er geen re
 sititutie plaats.\nWij hopen velen van jullie te zien op 22 april!!\nMet v
 riendelijke groeten\,\nDe reiscommissieKees van de Vooren\, Arie Brink\, P
 etra van der Wal en Tanja Wenzler\n{module id='210'}
DTSTART:20260422T073000Z
DTEND:20260422T143000Z
GEO:00;0
LOCATION:
ORGANIZER:
SEQUENCE:1
SUMMARY:Excursie Museum Bataviastad
TRANSP:OPAQUE
URL:https://historieheerenveen.nl/component/icagenda/170-excursie-museum-ba
 taviastad?layout=vcal
END:VEVENT
END:VCALENDAR
